BEGIN:VCALENDAR
VERSION:2.0
PRODID:-//Manitoba Canola Growers - ECPv6.15.20//NONSGML v1.0//EN
CALSCALE:GREGORIAN
METHOD:PUBLISH
X-ORIGINAL-URL:https://canolagrowers.com
X-WR-CALDESC:Events for Manitoba Canola Growers
REFRESH-INTERVAL;VALUE=DURATION:PT1H
X-Robots-Tag:noindex
X-PUBLISHED-TTL:PT1H
BEGIN:VTIMEZONE
TZID:America/Winnipeg
BEGIN:DAYLIGHT
TZOFFSETFROM:-0600
TZOFFSETTO:-0500
TZNAME:CDT
DTSTART:20240310T080000
END:DAYLIGHT
BEGIN:STANDARD
TZOFFSETFROM:-0500
TZOFFSETTO:-0600
TZNAME:CST
DTSTART:20241103T070000
END:STANDARD
BEGIN:DAYLIGHT
TZOFFSETFROM:-0600
TZOFFSETTO:-0500
TZNAME:CDT
DTSTART:20250309T080000
END:DAYLIGHT
BEGIN:STANDARD
TZOFFSETFROM:-0500
TZOFFSETTO:-0600
TZNAME:CST
DTSTART:20251102T070000
END:STANDARD
BEGIN:DAYLIGHT
TZOFFSETFROM:-0600
TZOFFSETTO:-0500
TZNAME:CDT
DTSTART:20260308T080000
END:DAYLIGHT
BEGIN:STANDARD
TZOFFSETFROM:-0500
TZOFFSETTO:-0600
TZNAME:CST
DTSTART:20261101T070000
END:STANDARD
BEGIN:DAYLIGHT
TZOFFSETFROM:-0600
TZOFFSETTO:-0500
TZNAME:CDT
DTSTART:20270314T080000
END:DAYLIGHT
BEGIN:STANDARD
TZOFFSETFROM:-0500
TZOFFSETTO:-0600
TZNAME:CST
DTSTART:20271107T070000
END:STANDARD
END:VTIMEZONE
BEGIN:VEVENT
DTSTART;TZID=America/Winnipeg:20260212T073000
DTEND;TZID=America/Winnipeg:20260212T090000
DTSTAMP:20260423T132605
CREATED:20251118T203124Z
LAST-MODIFIED:20251118T214132Z
UID:10000003-1770881400-1770886800@canolagrowers.com
SUMMARY:Annual General Meeting
DESCRIPTION:Our AGM will be held on Thursday\, February 12\, 2026 at 7:30 am at the Victoria Inn Hotel and Convention Centre in Winnipeg\, on the second day of the CropConnect Conference. \nResolution deadline: January 30\, 2026 by 4:30 pm CST.\nSubmit resolutions to: info@canolagrowers.com \nCheck out our AGM page for more information.
URL:https://canolagrowers.com/event/annual-general-meeting/
LOCATION:Victoria Inn Hotel and Convention Centre\, 1808 Wellington Ave\, Winnipeg\, Manitoba\, R3H 0G3\, Canada
ATTACH;FMTTYPE=image/jpeg:https://canolagrowers.com/wp-content/uploads/21163-MCG-X-Post-AGM-20261600x900p-Nov2025-FNL2.jpg
END:VEVENT
BEGIN:VEVENT
DTSTART;TZID=America/Winnipeg:20260211T080000
DTEND;TZID=America/Winnipeg:20260212T170000
DTSTAMP:20260423T132605
CREATED:20251118T205256Z
LAST-MODIFIED:20251215T234032Z
UID:10000004-1770796800-1770915600@canolagrowers.com
SUMMARY:CropConnect Conference 2026
DESCRIPTION:Whether you run a large production or a small-scale farm\, farmers of all kinds are invited to the CropConnect Conference\, February 11 & 12\, 2026\, in Winnipeg. This two-day event features a wide range of speakers\, access to crop-specific information\, networking opportunites\, and a banquet. \nRegister at cropconnectconference.ca to guarantee your spot. \nRegister now
URL:https://canolagrowers.com/event/cropconnect-conference-2026/
LOCATION:Victoria Inn Hotel and Convention Centre\, 1808 Wellington Ave\, Winnipeg\, Manitoba\, R3H 0G3\, Canada
ATTACH;FMTTYPE=image/png:https://canolagrowers.com/wp-content/uploads/MCA_SM_CropConnect-2026-Join-Us-Twitter-v2.png
END:VEVENT
BEGIN:VEVENT
DTSTART;TZID=America/Winnipeg:20260126T083000
DTEND;TZID=America/Winnipeg:20260127T163000
DTSTAMP:20260423T132605
CREATED:20251215T234003Z
LAST-MODIFIED:20251215T234003Z
UID:10000006-1769416200-1769531400@canolagrowers.com
SUMMARY:Soil Fertility Workshop
DESCRIPTION:Join us for a two day\, farmer-focused workshop to learn all about soil fertility from Manitoba experts!\n\n\n\nDay 1: Concepts of Soil Fertility and Productivity; Soil Reaction\, Liming and Salinity; Nitrogen; Phosphorus (8:30 AM – 4:30 PM) \nDay 2: Potassium; Secondary Nutrients; Micronutrients; Fertilizing for Profit (Economical Rates); Soil and Tissue Test Interpretation; Case Studies from Commission Agronomists (8:30 AM – 4:30 PM) \nTickets are $75 per person. Farmers who are members of Manitoba Canola Growers\, Manitoba Crop Alliance and/or Manitoba Pulse and Soybean Growers will receive a rebate of $25 for each association they are a member of. If you are a member of all three\, this event is FREE! \nSpace is limited! Max capacity is 25 participants. \nIMPORTANT NOTE: This event is intended for farmers. If you are an agronomist hoping to attend\, please email Ashley Ammeter at ashley@mbcropalliance.ca to be added to a waitlist. If there is space remaining closer to the event dates\, you will be contacted. For agronomists or other industry\, there is a Soil Fertility Refresher course to be held in Brandon\, MB on Jan. 13-14. More information is available here. \nRegister now
URL:https://canolagrowers.com/event/soil-fertility-workshop/
LOCATION:University of Manitoba Ian N. Morrison Research Farm\, Carman\, MB\, R0G 0J0\, Canada
ATTACH;FMTTYPE=image/png:https://canolagrowers.com/wp-content/uploads/MCA_SM_Soil-Fertility-Workshops-2026-X-REG.png
END:VEVENT
BEGIN:VEVENT
DTSTART;TZID=America/Winnipeg:20260120T093000
DTEND;TZID=America/Winnipeg:20260120T120000
DTSTAMP:20260423T132605
CREATED:20251125T023514Z
LAST-MODIFIED:20260108T030317Z
UID:10000005-1768901400-1768910400@canolagrowers.com
SUMMARY:Canola Morning at Manitoba AgDays
DESCRIPTION:Manitoba Canola Growers Association Program \n9:30 AM Weevil Be Fine: Review of Insects Bugging Manitoba Canola Farmers \n\nJohn Gavloski\, Manitoba Agriculture\n\n10:15 AM Verticillium Stripe: Because Farming Wasn’t Hard Enough Already \n\nHarmeet Singh Chawla\, University of Manitoba\nStephen Fox\, DL Seeds Inc.\nKendall Baker\, Manitoba Canola Growers Association\n\n11:15 AM Powering the Future: Canola’s Role in Global Trade and Biofuels \n\nBrittany Wood\, Canadian Canola Growers Association
URL:https://canolagrowers.com/event/canola-morning-at-manitoba-agdays/
LOCATION:FCC Theatre\, Keystone Center\, #1 – 1175 – 18th Street\, Brandon\, Manitoba\, R7A 7C5\, Canada
ATTACH;FMTTYPE=image/png:https://canolagrowers.com/wp-content/uploads/Canola-Morning-@-Ag-Days-Twitter-3.png
END:VEVENT
BEGIN:VEVENT
DTSTART;TZID=America/Winnipeg:20251126T090000
DTEND;TZID=America/Winnipeg:20251126T123000
DTSTAMP:20260423T132605
CREATED:20251118T202822Z
LAST-MODIFIED:20251118T210004Z
UID:10000002-1764147600-1764160200@canolagrowers.com
SUMMARY:Farmer Grain Grading Bootcamp - Souris
DESCRIPTION:Join us for hands-on learning with the Canadian Grain Commission. \nJoin the Canadian Grain Commission – hosted by Manitoba Canola Growers\, Manitoba Crop Alliance and Manitoba Pulse & Soybean Growers – for a hands-on learning experience designed to help farmers sharpen their grain grading skills. \nFree hot breakfast served at 8 am\, with the program starting at 9 am. \nTickets are $15 per person. Farmers who are members of the three host associations will receive a rebate of $5 for each association they are a member of. If you are a member of all three\, this event will be complimentary! \nLimit of 2 tickets per farm. If you wish to register more than two participants\, please reach out to Andrew Hector (andrew@mbcropalliance.ca) to be put on the waitlist.
URL:https://canolagrowers.com/event/farmer-grain-grading-bootcamp-souris/
LOCATION:Memorial Complex\, 100 2nd Street South\, Souris\, MB\, R0K 2C0\, Canada
ATTACH;FMTTYPE=image/webp:https://canolagrowers.com/wp-content/uploads/MCGA-Event-Farmer-Grain-Grading-Bootcamp.webp
END:VEVENT
BEGIN:VEVENT
DTSTART;TZID=America/Winnipeg:20251125T090000
DTEND;TZID=America/Winnipeg:20251125T123000
DTSTAMP:20260423T132605
CREATED:20251022T153416Z
LAST-MODIFIED:20251118T205752Z
UID:10000001-1764061200-1764073800@canolagrowers.com
SUMMARY:Farmer Grain Grading Bootcamp - Carman
DESCRIPTION:Join us for hands-on learning with the Canadian Grain Commission. \nJoin the Canadian Grain Commission – hosted by Manitoba Canola Growers\, Manitoba Crop Alliance and Manitoba Pulse & Soybean Growers – for a hands-on learning experience designed to help farmers sharpen their grain grading skills. \nFree hot breakfast served at 8 am\, with the program starting at 9 am. \nTickets are $15 per person. Farmers who are members of the three host associations will receive a rebate of $5 for each association they are a member of. If you are a member of all three\, this event will be complimentary! \nLimit of 2 tickets per farm. If you wish to register more than two participants\, please reach out to Andrew Hector (andrew@mbcropalliance.ca) to be put on the waitlist. \n 
URL:https://canolagrowers.com/event/farmer-grain-grading-bootcamp-carman/
LOCATION:Carman Community Hall\, 2nd Street Northwest\, Carman\, Manitoba\, R0G 0J0\, Canada
ATTACH;FMTTYPE=image/webp:https://canolagrowers.com/wp-content/uploads/MCGA-Event-Farmer-Grain-Grading-Bootcamp.webp
END:VEVENT
END:VCALENDAR